BEGIN:VCALENDAR
VERSION:2.0
PRODID:icalendar-ruby
CALSCALE:GREGORIAN
BEGIN:VEVENT
DTSTAMP:20260423T114201Z
UID:b1785a30-e881-45fe-a551-352dfde264a7
DTSTART:20260424T000000
DTEND:20260426T235959
DESCRIPTION:Details: https://licensing-me-licensing--joo9ns.herokuapp.com//
 events/5272
LOCATION:2790 County Route 16 Watkins Glen\, NY 14891
SUMMARY:Watkins Glen   April 24-25-26  Spring Brake at the Glen
URL:https://licensing-me-licensing--joo9ns.herokuapp.com//events/5272
END:VEVENT
END:VCALENDAR
