BEGIN:VCALENDAR
VERSION:2.0
PRODID:icalendar-ruby
CALSCALE:GREGORIAN
BEGIN:VEVENT
DTSTAMP:20260423T114752Z
UID:9aaec0fa-afd2-45a1-9b29-12df184f56f8
DTSTART:20260425T000000
DTEND:20260426T235959
DESCRIPTION:Details: https://licensing-me-licensing--joo9ns.herokuapp.com//
 events/5316
LOCATION:93301 U.S. 36 Deer Trail\, CO 80105
SUMMARY:Spring Rev-Up @ High Plains Raceway
URL:https://licensing-me-licensing--joo9ns.herokuapp.com//events/5316
END:VEVENT
END:VCALENDAR
