BEGIN:VCALENDAR
VERSION:2.0
PRODID:icalendar-ruby
CALSCALE:GREGORIAN
BEGIN:VEVENT
DTSTAMP:20260423T125615Z
UID:f159c5d2-4278-4c1a-9f0b-d85ac1961ab2
DTSTART:20260620T000000
DTEND:20260621T235959
LOCATION:93301 U.S. 36 Deer Trail\, CO 80105
SUMMARY:Showdown on the Plains @ High Plains Raceway
URL:https://licensing-me-licensing--joo9ns.herokuapp.com//events/5317
END:VEVENT
END:VCALENDAR
