BEGIN:VCALENDAR
VERSION:2.0
PRODID:icalendar-ruby
CALSCALE:GREGORIAN
BEGIN:VEVENT
DTSTAMP:20260423T125615Z
UID:d8cad2aa-c22f-42e2-8d3e-aba019f54b6c
DTSTART:20260815T000000
DTEND:20260816T235959
DESCRIPTION:Details: https://licensing-me-licensing--joo9ns.herokuapp.com//
 events/5318
LOCATION:93301 U.S. 36 Deer Trail\, CO 80105
SUMMARY:High Plains Hustle @ High Plains Raceway
URL:https://licensing-me-licensing--joo9ns.herokuapp.com//events/5318
END:VEVENT
END:VCALENDAR
