BEGIN:VCALENDAR
VERSION:2.0
PRODID:icalendar-ruby
CALSCALE:GREGORIAN
BEGIN:VEVENT
DTSTAMP:20260423T131822Z
UID:149f20b7-44ee-444b-8d85-b6b21c20d7bb
DTSTART:20261009T000000
DTEND:20261011T235959
LOCATION:2790 County Route 16 Watkins Glen\, NY 14891
SUMMARY:Watkins Glen   Oct  9-11  Thunder at the Glen
URL:https://licensing-me-licensing--joo9ns.herokuapp.com//events/5357
END:VEVENT
END:VCALENDAR
