BEGIN:VCALENDAR
VERSION:2.0
PRODID:icalendar-ruby
CALSCALE:GREGORIAN
BEGIN:VEVENT
DTSTAMP:20260423T113404Z
UID:0389b9c3-3496-474f-b841-8c11f4529fa7
DTSTART:20260423T000000
DTEND:20260425T235959
DESCRIPTION:Details: https://licensing-me-licensing--joo9ns.herokuapp.com//
 events/5541
LOCATION:15402 W Camelback Rd Goodyear\, AZ 85340
SUMMARY:Normal Payment Event
URL:https://licensing-me-licensing--joo9ns.herokuapp.com//events/5541
END:VEVENT
END:VCALENDAR
